BEGIN:VCALENDAR
VERSION:2.0
PRODID:-//eventon.com NONSGML v1.0//EN
CALSCALE:GREGORIAN
METHOD:PUBLISH
BEGIN:VEVENT
UID:69e5e43e0ed05
DTSTAMP:20260420T083054Z
DTSTART:20220620T060000Z
DTEND:20220620T150000Z
LOCATION:
SUMMARY:Studientag ohne Unterricht - Zeugniskonferenzen
DESCRIPTION:Studientag ohne Unterricht - Zeugniskonferenzen\nhttps://www.gy
 mnasium-odenthal.de/events/studientag-ohne-unterricht-zeugniskonferenzen/
URL:https://www.gymnasium-odenthal.de/events/studientag-ohne-unterricht-zeugniskonferenzen/
END:VEVENT
END:VCALENDAR