BEGIN:VCALENDAR
VERSION:2.0
PRODID:-//eventon.com NONSGML v1.0//EN
CALSCALE:GREGORIAN
METHOD:PUBLISH
BEGIN:VEVENT
UID:69e61dbdb6087
DTSTAMP:20260420T123613Z
DTSTART:20230904
DTEND:20230905
LOCATION:
SUMMARY:Radfahrausbildung 6a
DESCRIPTION:Radfahrausbildung 6a\nhttps://www.gymnasium-odenthal.de/events/
 radfahrausbildung-6a-2/
URL:https://www.gymnasium-odenthal.de/events/radfahrausbildung-6a-2/
END:VEVENT
END:VCALENDAR